BEGIN:VCALENDAR
VERSION:2.0
PRODID:-//JPIC Learning Hub - ECPv6.15.18//NONSGML v1.0//EN
CALSCALE:GREGORIAN
METHOD:PUBLISH
X-WR-CALNAME:JPIC Learning Hub
X-ORIGINAL-URL:https://rscj-jpic.org
X-WR-CALDESC:Events for JPIC Learning Hub
REFRESH-INTERVAL;VALUE=DURATION:PT1H
X-Robots-Tag:noindex
X-PUBLISHED-TTL:PT1H
BEGIN:VTIMEZONE
TZID:UTC
BEGIN:STANDARD
TZOFFSETFROM:+0000
TZOFFSETTO:+0000
TZNAME:UTC
DTSTART:20250101T000000
END:STANDARD
END:VTIMEZONE
BEGIN:VEVENT
DTSTART;VALUE=DATE:20260101
DTEND;VALUE=DATE:20260102
DTSTAMP:20260420T213818
CREATED:20251217T065206Z
LAST-MODIFIED:20251220T122827Z
UID:6631-1767225600-1767311999@rscj-jpic.org
SUMMARY:World Day of Peace
DESCRIPTION:World Day of Peace 2026 falls on January 1\, the Solemnity of Mary\, Mother of God. Pope Leo XIV announced its theme as “Peace Be With You All: Towards an Unarmed and Disarming Peace.” \nRead Pope Leo’s Message for World Day of Peace 2026: click here.
URL:https://rscj-jpic.org/event/world-day-of-peace/
END:VEVENT
BEGIN:VEVENT
DTSTART;VALUE=DATE:20260124
DTEND;VALUE=DATE:20260125
DTSTAMP:20260420T213818
CREATED:20251217T070736Z
LAST-MODIFIED:20251217T070759Z
UID:6636-1769212800-1769299199@rscj-jpic.org
SUMMARY:International Day of Education
DESCRIPTION:This UN observance highlights education’s role in peace\, development\, and sustainable goals\, with past themes focusing on inclusion\, recovery from crises\, and emerging challenges like AI.
URL:https://rscj-jpic.org/event/international-day-of-education/
END:VEVENT
END:VCALENDAR